BEGIN:VCALENDAR
VERSION:2.0
PRODID:-//Alive Maryland - ECPv6.2.9//NONSGML v1.0//EN
CALSCALE:GREGORIAN
METHOD:PUBLISH
X-WR-CALNAME:Alive Maryland
X-ORIGINAL-URL:https://alivemaryland.org
X-WR-CALDESC:Events for Alive Maryland
REFRESH-INTERVAL;VALUE=DURATION:PT1H
X-Robots-Tag:noindex
X-PUBLISHED-TTL:PT1H
BEGIN:VTIMEZONE
TZID:America/New_York
BEGIN:DAYLIGHT
TZOFFSETFROM:-0500
TZOFFSETTO:-0400
TZNAME:EDT
DTSTART:20220313T070000
END:DAYLIGHT
BEGIN:STANDARD
TZOFFSETFROM:-0400
TZOFFSETTO:-0500
TZNAME:EST
DTSTART:20221106T060000
END:STANDARD
END:VTIMEZONE
BEGIN:VEVENT
DTSTART;TZID=America/New_York:20221003T084500
DTEND;TZID=America/New_York:20221003T160000
DTSTAMP:20260422T080938
CREATED:20220908T192256Z
LAST-MODIFIED:20220908T192339Z
UID:1969-1664786700-1664812800@alivemaryland.org
SUMMARY:STI Intensive 3-Day Course
DESCRIPTION:The STD/HIV Prevention Training Center at Johns Hopkins invites you to increase your knowledge about Sexually Transmitted Infections (STIs) through an STI Intensive Course\, October 3–5\, 2022. \nPresentations emphasize HIV/AIDS\, other STIs and associated syndromes. \nObjectives include:\n1. Identify the sites from which specimens should be obtained.\n2. Discuss STI Diagnosis.\n3. Describe the management of STIs.\n4. Describe the role of the disease intervention specialist (DIS) in STI control.\n5. Describe the importance of interprofessional collaboration in health department and private practice regarding STIs. \nThis training is sponsored by the STD/HIV Prevention Training Center at Johns Hopkins\, co-sponsored with Virginia HIV/AIDS Resource and Consultation Center and Virginia Department of Health. \nThe full 3-day course registration is limited to 45 full-time participants. \nContinuing education is provided. Continuing education credit will only be awarded to participants who attend the entire program. All participants must pass the posttest in order to receive any credit. \nTarget Audience:\nPhysicians\, nurse practitioners\, nurse midwives\, physician assistants\, nurse clinicians\, and registered nurses working in STD\, Family Planning\, and other primary care clinics in both public and private settings\, Trauma Centers\, Acute Care clinics\, and Clinicians that examine patients. \nPlease complete the brief survey below to indicate interest.\nInformation about registration will be communicated after the course roster is finalized. \nTake Survey
URL:https://alivemaryland.org/event/sti-intensive-3-day-course/
LOCATION:Online Event
CATEGORIES:Training
END:VEVENT
END:VCALENDAR