BEGIN:VCALENDAR
VERSION:2.0
PRODID:-//Alive Maryland - ECPv6.2.9//NONSGML v1.0//EN
CALSCALE:GREGORIAN
METHOD:PUBLISH
X-WR-CALNAME:Alive Maryland
X-ORIGINAL-URL:https://alivemaryland.org
X-WR-CALDESC:Events for Alive Maryland
REFRESH-INTERVAL;VALUE=DURATION:PT1H
X-Robots-Tag:noindex
X-PUBLISHED-TTL:PT1H
BEGIN:VTIMEZONE
TZID:America/New_York
BEGIN:DAYLIGHT
TZOFFSETFROM:-0500
TZOFFSETTO:-0400
TZNAME:EDT
DTSTART:20230312T070000
END:DAYLIGHT
BEGIN:STANDARD
TZOFFSETFROM:-0400
TZOFFSETTO:-0500
TZNAME:EST
DTSTART:20231105T060000
END:STANDARD
END:VTIMEZONE
BEGIN:VEVENT
DTSTART;TZID=America/New_York:20230412T120000
DTEND;TZID=America/New_York:20230412T130000
DTSTAMP:20260421T184457
CREATED:20230314T143353Z
LAST-MODIFIED:20230314T143353Z
UID:2494-1681300800-1681304400@alivemaryland.org
SUMMARY:New Frontiers\, New Challenges in STI Prevention and Treatment
DESCRIPTION:Please join the Maryland Department of Health’s Center for STI Prevention and the STD/HIV Prevention Training Center at Johns Hopkins to learn about: \n\nDoxycycline post-exposure prophylaxis (DoxyPEP) as an STI prevention tool\nThe recently detected novel strain of Neisseria gonorrhoeae with reduced susceptibility and resistance to key antibiotics\n\nPresenter:\nMatthew M. Hamill\, MBChB\, PhD\, MPH\nAssistant Professor of Medicine\, Johns Hopkins University School of Medicine \n\n\n\n\n\n\n\nWednesday\, April 12th\, 2023\n12:00pm – 1:00pm (EDT) \nRegister Now: https://courses.nnptc.org/class_information.html?id=3623\nRegistration deadline 5:00pm April 7\, 2023 \nContinuing education credits from the CDC are available for this activity free-of-charge: CME 1.0; CNE 1.0\, AAPA CME 1.0\, CPH 1.0\, CHES 1.0\, MCHES 1.0\, CEU 0.1
URL:https://alivemaryland.org/event/new-frontiers-new-challenges-in-sti-prevention-and-treatment/
LOCATION:Online Event
CATEGORIES:Webinar
END:VEVENT
END:VCALENDAR