BEGIN:VCALENDAR
VERSION:2.0
PRODID:-//Alive Maryland - ECPv6.2.9//NONSGML v1.0//EN
CALSCALE:GREGORIAN
METHOD:PUBLISH
X-ORIGINAL-URL:https://alivemaryland.org
X-WR-CALDESC:Events for Alive Maryland
REFRESH-INTERVAL;VALUE=DURATION:PT1H
X-Robots-Tag:noindex
X-PUBLISHED-TTL:PT1H
BEGIN:VTIMEZONE
TZID:America/New_York
BEGIN:DAYLIGHT
TZOFFSETFROM:-0500
TZOFFSETTO:-0400
TZNAME:EDT
DTSTART:20230312T070000
END:DAYLIGHT
BEGIN:STANDARD
TZOFFSETFROM:-0400
TZOFFSETTO:-0500
TZNAME:EST
DTSTART:20231105T060000
END:STANDARD
END:VTIMEZONE
BEGIN:VEVENT
DTSTART;TZID=America/New_York:20230111T130000
DTEND;TZID=America/New_York:20230111T150000
DTSTAMP:20260421T112838
CREATED:20220922T143058Z
LAST-MODIFIED:20230103T180120Z
UID:2093-1673442000-1673449200@alivemaryland.org
SUMMARY:2023 Open Enrollment Webinar Series\, Session 7
DESCRIPTION:Please join the MADAP Insurance team as we continue our 2023 Open Enrollment series through January 25th. For our 7th series on Wednesday\, January 11\, 2023 at 1pm\, the MADAP Insurance team will discuss the following: \n\nMedicaid eligibility and unwinding Open Enrollment for Medicare Advantage Plans\nClients who want to switch plans Coverage Transitions\nSpecial Enrollment for QHPs and Medicare\n\nTo register\, visit https://us06web.zoom.us/meeting/register/tZcpdO2vqDMoE93LcpMNAmBK6D-krqeKtgym
URL:https://alivemaryland.org/event/2023-medicare-open-enrollment-webinar-series-session-7/
LOCATION:Online Event
CATEGORIES:Webinar
END:VEVENT
END:VCALENDAR