BEGIN:VCALENDAR
VERSION:2.0
PRODID:-//Alive Maryland - ECPv6.2.9//NONSGML v1.0//EN
CALSCALE:GREGORIAN
METHOD:PUBLISH
X-WR-CALNAME:Alive Maryland
X-ORIGINAL-URL:https://alivemaryland.org
X-WR-CALDESC:Events for Alive Maryland
REFRESH-INTERVAL;VALUE=DURATION:PT1H
X-Robots-Tag:noindex
X-PUBLISHED-TTL:PT1H
BEGIN:VTIMEZONE
TZID:America/New_York
BEGIN:DAYLIGHT
TZOFFSETFROM:-0500
TZOFFSETTO:-0400
TZNAME:EDT
DTSTART:20220313T070000
END:DAYLIGHT
BEGIN:STANDARD
TZOFFSETFROM:-0400
TZOFFSETTO:-0500
TZNAME:EST
DTSTART:20221106T060000
END:STANDARD
END:VTIMEZONE
BEGIN:VEVENT
DTSTART;TZID=America/New_York:20221201T171500
DTEND;TZID=America/New_York:20221201T180000
DTSTAMP:20260420T174316
CREATED:20221128T155940Z
LAST-MODIFIED:20221128T155940Z
UID:2350-1669914900-1669917600@alivemaryland.org
SUMMARY:Severe Monkeypox Grand Rounds
DESCRIPTION:In honor of World AIDS Day\, the Maryland Department of Health\, University of Maryland\, and Johns Hopkins University are hosting a Severe Monkeypox Grand Rounds on 12/1 to spread awareness of severe Monkeypox manifestations and treatments for patients living with HIV/AIDS. \n\n\n\n\nAgenda \n\n\n\n\n\nMonkeypox Case Presentation #1: Facial Lesions\nMonkeypox Case Presentation #2: Jaw/cheek abscess/myositis\nProvider Panel Q&A\n\n\n\n\n\nNote: if you are unable to join the webinar live\, register for the webinar and you will receive a recording after the webinar. \nRegister online: https://attendee.gotowebinar.com/register/7259722762275914510
URL:https://alivemaryland.org/event/severe-monkeypox-grand-rounds/
LOCATION:Online Event
CATEGORIES:Webinar
END:VEVENT
END:VCALENDAR