BEGIN:VCALENDAR
VERSION:2.0
PRODID:-//Alive Maryland - ECPv6.2.9//NONSGML v1.0//EN
CALSCALE:GREGORIAN
METHOD:PUBLISH
X-ORIGINAL-URL:https://alivemaryland.org
X-WR-CALDESC:Events for Alive Maryland
REFRESH-INTERVAL;VALUE=DURATION:PT1H
X-Robots-Tag:noindex
X-PUBLISHED-TTL:PT1H
BEGIN:VTIMEZONE
TZID:America/New_York
BEGIN:DAYLIGHT
TZOFFSETFROM:-0500
TZOFFSETTO:-0400
TZNAME:EDT
DTSTART:20220313T070000
END:DAYLIGHT
BEGIN:STANDARD
TZOFFSETFROM:-0400
TZOFFSETTO:-0500
TZNAME:EST
DTSTART:20221106T060000
END:STANDARD
END:VTIMEZONE
BEGIN:VEVENT
DTSTART;TZID=America/New_York:20220921T170000
DTEND;TZID=America/New_York:20220921T180000
DTSTAMP:20260420T223529
CREATED:20220919T185621Z
LAST-MODIFIED:20220919T185621Z
UID:2033-1663779600-1663783200@alivemaryland.org
SUMMARY:Monkeypox Provider Update Webinar: September 21
DESCRIPTION:Join us for the next Monkeypox Provider Update Webinar on 9/21 from 5-6PM. The agenda for the webinar includes: a monkeypox epidemiological update\, updates on testing\, updates on case identification and contact tracing\, updates on vaccines\, updates on treatment\, and a question and answer session. If you cannot attend the session\, please register and the slide deck and recording will be sent to you the following day. \nDr. David Blythe and Dr. Monique Duwell will provide up-to-date information for providers on responding to Monkeypox when caring for patients: \n\n\n\n\n\nMonkeypox Epidemiological Update\nResponse Updates: Case Identification\, Contact Tracing\, Vaccines\, Testing\, and Treatment\nQ&A
URL:https://alivemaryland.org/event/monkeypox-provider-update-webinar-september-21/
LOCATION:Online Event
CATEGORIES:Webinar
END:VEVENT
END:VCALENDAR