BEGIN:VCALENDAR
VERSION:2.0
PRODID:-//Alive Maryland - ECPv6.2.9//NONSGML v1.0//EN
CALSCALE:GREGORIAN
METHOD:PUBLISH
X-WR-CALNAME:Alive Maryland
X-ORIGINAL-URL:https://alivemaryland.org
X-WR-CALDESC:Events for Alive Maryland
REFRESH-INTERVAL;VALUE=DURATION:PT1H
X-Robots-Tag:noindex
X-PUBLISHED-TTL:PT1H
BEGIN:VTIMEZONE
TZID:America/New_York
BEGIN:DAYLIGHT
TZOFFSETFROM:-0500
TZOFFSETTO:-0400
TZNAME:EDT
DTSTART:20230312T070000
END:DAYLIGHT
BEGIN:STANDARD
TZOFFSETFROM:-0400
TZOFFSETTO:-0500
TZNAME:EST
DTSTART:20231105T060000
END:STANDARD
END:VTIMEZONE
BEGIN:VEVENT
DTSTART;TZID=America/New_York:20230925T090000
DTEND;TZID=America/New_York:20230929T170000
DTSTAMP:20260420T063517
CREATED:20230822T151241Z
LAST-MODIFIED:20230822T151241Z
UID:2854-1695632400-1696006800@alivemaryland.org
SUMMARY:ELEVATE en Español: Chicago
DESCRIPTION:¡NMAC se complace en anunciar nuestra colaboración con Howard Brown Health (HBH) para la próxima iniciativa de capacitación “ELEVATE en español!” \nEn Howard Brown Health\, brindan atención que respeta y valora a las personas tal como son. Su personal está dedicado a ayudar a los clientes a vivir su mejor vida. Desde pediatría hasta geriatría\, HBH brinda atención experta a la comunidad LGBTQ+ y sus aliados\, sin importar su capacidad de pago. \nNMAC y HBH se unen para ofrecer capacitaciones de desarrollo de capacidad completamente en español para personas que viven con el VIH y proveedores de servicios que respaldan a personas que viven con el VIH y su comunidad\, principalmente en Chicago. Las fechas de capacitación son del 25 al 29 de septiembre de 2023\, de 9:00 a. m. a 5:00 p. m.\, en 1025 West Sunnyside Ave.\, Chicago. \nComo parte de nuestra Iniciativa de Justicia Lingüística\, todas las sesiones de capacitación se llevarán a cabo completamente en español\, garantizando un acceso equitativo y una experiencia inclusiva para todos los participantes. \nÚnete a nosotros en esta experiencia de capacitación enriquecedora\, con el objetivo de mejorar las habilidades de liderazgo y promover un acceso equitativo a servicios vitales. \nPara obtener más información sobre la elegibilidad y para presentar tu solicitud\, visita nuestro sitio web. \n¡Mantente atento a más actualizaciones y detalles sobre esta fantástica colaboración!\n  \nNMAC is thrilled to announce our collaboration with Howard Brown Health (HBH) for the upcoming “ELEVATE en español” training initiative! \nAt Howard Brown Health\, they provide care that respects and values people just as they are. Their staff is dedicated to helping clients live their best life. From pediatrics to geriatrics\, HBH provides expert care to the LGBTQ+ community and their allies\, regardless of their ability to pay. \nNMAC and HBH are teaming up to deliver capacity building trainings fully in Spanish for individuals living with HIV and service providers supporting people living with HIV and their community\, mainly in Chicago. The training will take place at 1025 West Sunnyside Ave.\, Chicago\, from September 25th to 29th\, 2023\, from 9:00 AM to 5:00 PM. \nAs part of our Language Justice Initiative\, all training sessions will be facilitated entirely in Spanish\, ensuring equitable access and an inclusive experience for all participants. \nJoin us for this empowering training experience\, aimed at enhancing leadership skills and promoting equitable access to vital services. \nTo learn more about eligibility and to apply\, please visit our website.
URL:https://alivemaryland.org/event/elevate-en-espanol-chicago/
LOCATION:Howard Brown Health\, 1025 West Sunnyside Ave.\, Chicago\, IL\, 60640\, United States
CATEGORIES:Training
ATTACH;FMTTYPE=image/jpeg:https://alivemaryland.org/wp-content/uploads/2023/08/7a24a4ff-2e24-b83e-804e-2c4be2baacff.jpeg
END:VEVENT
END:VCALENDAR