BEGIN:VCALENDAR
VERSION:2.0
PRODID:-//Alive Maryland - ECPv6.2.9//NONSGML v1.0//EN
CALSCALE:GREGORIAN
METHOD:PUBLISH
X-WR-CALNAME:Alive Maryland
X-ORIGINAL-URL:https://alivemaryland.org
X-WR-CALDESC:Events for Alive Maryland
REFRESH-INTERVAL;VALUE=DURATION:PT1H
X-Robots-Tag:noindex
X-PUBLISHED-TTL:PT1H
BEGIN:VTIMEZONE
TZID:America/New_York
BEGIN:DAYLIGHT
TZOFFSETFROM:-0500
TZOFFSETTO:-0400
TZNAME:EDT
DTSTART:20230312T070000
END:DAYLIGHT
BEGIN:STANDARD
TZOFFSETFROM:-0400
TZOFFSETTO:-0500
TZNAME:EST
DTSTART:20231105T060000
END:STANDARD
END:VTIMEZONE
BEGIN:VEVENT
DTSTART;TZID=America/New_York:20231005T120000
DTEND;TZID=America/New_York:20231005T130000
DTSTAMP:20260420T064341
CREATED:20230815T182559Z
LAST-MODIFIED:20230824T134847Z
UID:2842-1696507200-1696510800@alivemaryland.org
SUMMARY:Empowering Black Women: Breaking Barriers to PrEP Across the Lifespan
DESCRIPTION:PrEP is highly effective for preventing HIV\, yet PrEP use among Black women is very low. Barriers include lack of awareness\, negative experiences with providers\, lack of confidence that providers know about PrEP\, daily uptake\, and negative response from partners. \nJoin Alive! Maryland\, led by HealthHIV\, on Thursday\, October 5\, 2023 at 12:00pm Eastern for a webinar that will highlight HIV prevention among Black women at each stage of life\, including strategies for engagement and barriers to care. \nLearning Objectives: \n\nDiscuss the history of HIV prevention and Black women.\nDescribe key strategies for engaging Black women in HIV prevention at each stage of the lifespan.\nIdentify barriers to PrEP for Black women at each stage of the lifespan.\nDiscuss the impact of culture and medical mistrust on healthcare decisions for Black women.\n\nContinuing education credits are available for this webinar\, pending accreditation. \nhttps://us06web.zoom.us/webinar/register/WN_9IEaiXQvTJiKxoxWgdV2Jg#/registration
URL:https://alivemaryland.org/event/empowering-black-women-breaking-barriers-to-prep/
LOCATION:Online Event
CATEGORIES:Webinar
ATTACH;FMTTYPE=image/jpeg:https://alivemaryland.org/wp-content/uploads/2023/08/AMD-Header-EmpoweringBlackWomen-1.jpg
END:VEVENT
BEGIN:VEVENT
DTSTART;TZID=America/New_York:20231012T120000
DTEND;TZID=America/New_York:20231012T130000
DTSTAMP:20260420T064341
CREATED:20230815T182941Z
LAST-MODIFIED:20230823T135124Z
UID:2844-1697112000-1697115600@alivemaryland.org
SUMMARY:Homelessness: Strategies for Engagement in HIV Care
DESCRIPTION:Housing status is a social determinant of health that has a significant impact on HIV prevention and care outcomes. The experiences of homelessness and housing instability are linked to higher viral loads and failure to attain or sustain viral suppression among people living with HIV. \nJoin Alive! Maryland\, led by HealthHIV\, on Thursday\, October 12\, 2023 at 12:00pm Eastern for a webinar that will discuss strategies to engage and retain people experiencing homelessness in HIV care. \nLearning Objectives: \n\nDescribe the health impacts of homelessness for people with HIV.\nIdentify barriers to care for people with HIV who are experiencing homelessness.\nDiscuss interventions to promote engagement in HIV care for people experiencing homelessness.\n\nContinuing education credits are available for this webinar\, pending accreditation. \nhttps://us06web.zoom.us/webinar/register/WN_LlftXkVjSyCZHOzNTEWsqg#/registration
URL:https://alivemaryland.org/event/homelessness-strategies-for-engagement-in-hiv-care/
LOCATION:Online Event
CATEGORIES:Webinar
ATTACH;FMTTYPE=image/jpeg:https://alivemaryland.org/wp-content/uploads/2023/08/AMD-Header-HomelessEngagement.jpg
END:VEVENT
END:VCALENDAR