BEGIN:VCALENDAR
VERSION:2.0
PRODID:-//Alive Maryland - ECPv6.2.9//NONSGML v1.0//EN
CALSCALE:GREGORIAN
METHOD:PUBLISH
X-WR-CALNAME:Alive Maryland
X-ORIGINAL-URL:https://alivemaryland.org
X-WR-CALDESC:Events for Alive Maryland
REFRESH-INTERVAL;VALUE=DURATION:PT1H
X-Robots-Tag:noindex
X-PUBLISHED-TTL:PT1H
BEGIN:VTIMEZONE
TZID:America/New_York
BEGIN:DAYLIGHT
TZOFFSETFROM:-0500
TZOFFSETTO:-0400
TZNAME:EDT
DTSTART:20230312T070000
END:DAYLIGHT
BEGIN:STANDARD
TZOFFSETFROM:-0400
TZOFFSETTO:-0500
TZNAME:EST
DTSTART:20231105T060000
END:STANDARD
END:VTIMEZONE
BEGIN:VEVENT
DTSTART;TZID=America/New_York:20230606T120000
DTEND;TZID=America/New_York:20230606T130000
DTSTAMP:20260421T083236
CREATED:20230522T145658Z
LAST-MODIFIED:20230522T145658Z
UID:2644-1686052800-1686056400@alivemaryland.org
SUMMARY:Monitoring Contracts and Subrecipients
DESCRIPTION:This webinar will begin with a discussion of the difference between a recipient\, a subrecipient\, and a contractor and the elements of subrecipient agreements\, subawards and contracts. The faculty will review the Uniform Guidance and the requirements outlined in this document with regards to the recipient/subrecipient relationship and the necessary monitoring processes. This presentation will discuss the pre-award screening process and risk assessments to be performed prior to entering into an agreement\, as well as the routine monitoring processes needed to ensure continued compliance. The presentation will discuss the corrective action process and strategies for recipients to partner with subrecipients to address compliance. Finally\, this presentation will include a discussion of policies and procedures and their role in the monitoring process. \nPresentation Outline: \n\nIdentify the differences between a recipient\, a subrecipient\, and a contractor\nReview components of a subrecipient agreement/contract\nDiscuss the importance of pre-award risk assessments\nReview monitoring requirements and implementation of monitoring activities\nDiscuss the difference between and expectations regarding policies and procedures\n\nRegistration link: https://us06web.zoom.us/webinar/register/WN_AE0ihm3MTF6BtpVKfK024Q
URL:https://alivemaryland.org/event/monitoring-contracts-and-subrecipients/
LOCATION:Online Event
CATEGORIES:Webinar
END:VEVENT
BEGIN:VEVENT
DTSTART;TZID=America/New_York:20230622T110000
DTEND;TZID=America/New_York:20230622T120000
DTSTAMP:20260421T083236
CREATED:20230522T145802Z
LAST-MODIFIED:20230522T145802Z
UID:2646-1687431600-1687435200@alivemaryland.org
SUMMARY:Budgeting and Maximizing Program Income
DESCRIPTION:This webinar will start with a review of program income requirements. The faculty will discuss the definition of program income\, sources of program income\, and the allowable and unallowable uses or program income in accordance with the Uniform Guidance and Ryan White HIV/AIDS Program (RWHAP) programmatic and legislative requirements. The presentation will cover the recipient/subrecipient relationship as it relates to program income and the monitoring requirements for tracking and spending program income funds. The faculty will utilize case studies to identify sources of program income and methods for tracking and allocating program income\, particularly from multiple funding streams. There will also be a discussion of how to budget program income and utilize program income to expand programming and services. \nPresentation Outline: \n\nIdentify the Ryan White HIV/AIDS Program program income requirements\nDescribe examples of program income\nDiscuss methods for tracking\, monitoring\, and spending program income\nReview methods to budget and spend program income\n\nRegistration link: https://us06web.zoom.us/webinar/register/WN_zeBGDvddQx2SdOyAOueoIg
URL:https://alivemaryland.org/event/budgeting-and-maximizing-program-income/
LOCATION:Online Event
CATEGORIES:Webinar
END:VEVENT
END:VCALENDAR