BEGIN:VCALENDAR
VERSION:2.0
PRODID:-//Alive Maryland - ECPv6.2.9//NONSGML v1.0//EN
CALSCALE:GREGORIAN
METHOD:PUBLISH
X-ORIGINAL-URL:https://alivemaryland.org
X-WR-CALDESC:Events for Alive Maryland
REFRESH-INTERVAL;VALUE=DURATION:PT1H
X-Robots-Tag:noindex
X-PUBLISHED-TTL:PT1H
BEGIN:VTIMEZONE
TZID:America/New_York
BEGIN:DAYLIGHT
TZOFFSETFROM:-0500
TZOFFSETTO:-0400
TZNAME:EDT
DTSTART:20230312T070000
END:DAYLIGHT
BEGIN:STANDARD
TZOFFSETFROM:-0400
TZOFFSETTO:-0500
TZNAME:EST
DTSTART:20231105T060000
END:STANDARD
END:VTIMEZONE
BEGIN:VEVENT
DTSTART;TZID=America/New_York:20230214T110000
DTEND;TZID=America/New_York:20230214T120000
DTSTAMP:20260420T230029
CREATED:20230201T153701Z
LAST-MODIFIED:20230201T154140Z
UID:2422-1676372400-1676376000@alivemaryland.org
SUMMARY:HIV and Aging: Trauma Informed Care and Resilience
DESCRIPTION:Participants will consider the three Es – Event\, Experience and Effect as it relates to aging and thriving in a trauma informed way\nParticipants will learn how Resilience is a predictor of emotional well-being and psychological adjustment with people aging\, living\, and thriving with HIV\n\nIntended Audience \n\nClinicians\, social workers\, allied health professionals\, public health\, counselors and therapists\n\n\n\n\nTargeted Populations\n\n\n\n\n\nA variety of the listed populations will be discussed at this event. \n\nOlder Adults (ages 50 and over)\n\n\n\n\nTopics \nA variety of the listed topics will be discussed at this event. \n\n\nAging and HIV\nRetention and/or re-engagement in care\nMental health disorders\nHealth or Wellness Maintenance\nCommunity linkages
URL:https://alivemaryland.org/event/hiv-and-aging-trauma-informed-care-and-resilience/
LOCATION:Online Event
CATEGORIES:Webinar
END:VEVENT
END:VCALENDAR