BEGIN:VCALENDAR
VERSION:2.0
PRODID:-//Alive Maryland - ECPv6.2.9//NONSGML v1.0//EN
CALSCALE:GREGORIAN
METHOD:PUBLISH
X-WR-CALNAME:Alive Maryland
X-ORIGINAL-URL:https://alivemaryland.org
X-WR-CALDESC:Events for Alive Maryland
REFRESH-INTERVAL;VALUE=DURATION:PT1H
X-Robots-Tag:noindex
X-PUBLISHED-TTL:PT1H
BEGIN:VTIMEZONE
TZID:America/New_York
BEGIN:DAYLIGHT
TZOFFSETFROM:-0500
TZOFFSETTO:-0400
TZNAME:EDT
DTSTART:20230312T070000
END:DAYLIGHT
BEGIN:STANDARD
TZOFFSETFROM:-0400
TZOFFSETTO:-0500
TZNAME:EST
DTSTART:20231105T060000
END:STANDARD
END:VTIMEZONE
BEGIN:VEVENT
DTSTART;TZID=America/New_York:20231109T130000
DTEND;TZID=America/New_York:20231109T140000
DTSTAMP:20260420T080411
CREATED:20231013T182243Z
LAST-MODIFIED:20231013T184131Z
UID:2943-1699534800-1699538400@alivemaryland.org
SUMMARY:Opioid Overdose Prevention and Naloxone Education
DESCRIPTION:Opioid overdose is a critical public health concern affecting individuals and families across the state of Maryland. Join Alive! Maryland\, led by HealthHIV\, on Thursday\, November 9\, 2023 at 1:00pm Eastern for a webinar designed for providers and community members alike. The faculty will review the signs of an opioid overdose and describe how administration of Naloxone can reverse an overdose. Participants will gain essential knowledge and skills to intervene effectively in opioid overdose situations and potentially save lives. \nLearning Objectives \nRecall the names of common opioids. \n\nDiscuss the epidemiology of opioid overdose in Maryland.\nRecognize signs of an opioid overdose.\nIdentify the steps to administer naloxone to reverse an overdose.\nDescribe the laws surrounding administration of naloxone and other protections provided when seeking emergency medical help.\nIdentify community organizations promoting opioid overdose education and naloxone.\n\nPlease note that continuing education credits are not available for this webinar.
URL:https://alivemaryland.org/event/opioid-overdose-prevention/
LOCATION:Online Event
CATEGORIES:Webinar
ATTACH;FMTTYPE=image/jpeg:https://alivemaryland.org/wp-content/uploads/2023/10/AMD-Header-OpioidOverdosePrev.jpg
END:VEVENT
END:VCALENDAR