BEGIN:VCALENDAR
VERSION:2.0
PRODID:-//Alive Maryland - ECPv6.2.9//NONSGML v1.0//EN
CALSCALE:GREGORIAN
METHOD:PUBLISH
X-WR-CALNAME:Alive Maryland
X-ORIGINAL-URL:https://alivemaryland.org
X-WR-CALDESC:Events for Alive Maryland
REFRESH-INTERVAL;VALUE=DURATION:PT1H
X-Robots-Tag:noindex
X-PUBLISHED-TTL:PT1H
BEGIN:VTIMEZONE
TZID:America/New_York
BEGIN:DAYLIGHT
TZOFFSETFROM:-0500
TZOFFSETTO:-0400
TZNAME:EDT
DTSTART:20230312T070000
END:DAYLIGHT
BEGIN:STANDARD
TZOFFSETFROM:-0400
TZOFFSETTO:-0500
TZNAME:EST
DTSTART:20231105T060000
END:STANDARD
END:VTIMEZONE
BEGIN:VEVENT
DTSTART;TZID=America/New_York:20230421T130000
DTEND;TZID=America/New_York:20230421T140000
DTSTAMP:20260421T055509
CREATED:20230418T141230Z
LAST-MODIFIED:20230418T141230Z
UID:2531-1682082000-1682085600@alivemaryland.org
SUMMARY:HIV & Aging: A Model of Integrating Geriatric Assessments into Routine HIV Care
DESCRIPTION:This webinar will review different models used to integrate geriatric care into an HIV primary care clinic and describe preliminary outcomes and findings of an integrated geriatric/HIV clinic. \nSpeakers:  \n\nSarah Schmalzle\, MD Medical Director THRIVE Program Center for Infectious Disease\, UMD\nJudith Lee\, CRNP\, AACRN\, THRIVE Program Center for Infectious Disease\, UMD\n\nTargeted Populations: \nA variety of the listed populations will be discussed at this event. \n\nOlder Adults (ages 50 and over)\n\nTopics: \nA variety of the listed topics will be discussed at this event. \n\nAging and HIV\nNon-infection comorbidities of HIV and viral hepatitis\nStigma or discrimination\nCommunity linkages\nCare coordination\n\nIntended Audience: \n\nClinicians\, Pharmacists\, Allied health\, CHW\n\n> Download the event flyer \n> Registration Information
URL:https://alivemaryland.org/event/hiv-aging-a-model-of-integrating-geriatric-assessments-into-routine-hiv-care/
LOCATION:Online Event
CATEGORIES:Webinar
END:VEVENT
END:VCALENDAR