BEGIN:VCALENDAR
VERSION:2.0
PRODID:-//Alive Maryland - ECPv6.2.9//NONSGML v1.0//EN
CALSCALE:GREGORIAN
METHOD:PUBLISH
X-WR-CALNAME:Alive Maryland
X-ORIGINAL-URL:https://alivemaryland.org
X-WR-CALDESC:Events for Alive Maryland
REFRESH-INTERVAL;VALUE=DURATION:PT1H
X-Robots-Tag:noindex
X-PUBLISHED-TTL:PT1H
BEGIN:VTIMEZONE
TZID:America/New_York
BEGIN:DAYLIGHT
TZOFFSETFROM:-0500
TZOFFSETTO:-0400
TZNAME:EDT
DTSTART:20220313T070000
END:DAYLIGHT
BEGIN:STANDARD
TZOFFSETFROM:-0400
TZOFFSETTO:-0500
TZNAME:EST
DTSTART:20221106T060000
END:STANDARD
END:VTIMEZONE
BEGIN:VEVENT
DTSTART;TZID=America/New_York:20221213T140000
DTEND;TZID=America/New_York:20221213T150000
DTSTAMP:20260421T122653
CREATED:20221205T201127Z
LAST-MODIFIED:20221205T201352Z
UID:2358-1670940000-1670943600@alivemaryland.org
SUMMARY:Budget Planning for Non-Profits
DESCRIPTION:This webinar is part of the Fiscal Health series and will take place on Tuesday\, December 13\, 2022 at 2:00pm EST. \nThis webinar will provide participants with an overview of the essential components of budgeting and fiscal health for Maryland providers. \nLearning Objectives:\nUpon completion of this webinar\, participants will be able to:\n\nExplain why budgeting is important.\nUnderstand the common types of budgets (operating budget and capital budget).\nDescribe budget components (revenue and income).\nCreate a contingency plan.\nIdentify bookkeeping best practices.\nDevelop budget justification.\n\nPlease note that continuing education credits are not available for this session.\n\nRegistration link: https://us06web.zoom.us/webinar/register/WN_bA2TQhy1TWWUTQi8TKr-9A
URL:https://alivemaryland.org/event/budget-planning-for-non-profits/
LOCATION:Online Event
CATEGORIES:Webinar
END:VEVENT
END:VCALENDAR