BEGIN:VCALENDAR
VERSION:2.0
PRODID:-//Alive Maryland - ECPv6.2.9//NONSGML v1.0//EN
CALSCALE:GREGORIAN
METHOD:PUBLISH
X-ORIGINAL-URL:https://alivemaryland.org
X-WR-CALDESC:Events for Alive Maryland
REFRESH-INTERVAL;VALUE=DURATION:PT1H
X-Robots-Tag:noindex
X-PUBLISHED-TTL:PT1H
BEGIN:VTIMEZONE
TZID:America/New_York
BEGIN:DAYLIGHT
TZOFFSETFROM:-0500
TZOFFSETTO:-0400
TZNAME:EDT
DTSTART:20220313T070000
END:DAYLIGHT
BEGIN:STANDARD
TZOFFSETFROM:-0400
TZOFFSETTO:-0500
TZNAME:EST
DTSTART:20221106T060000
END:STANDARD
END:VTIMEZONE
BEGIN:VEVENT
DTSTART;TZID=America/New_York:20221116T140000
DTEND;TZID=America/New_York:20221116T153000
DTSTAMP:20260421T141236
CREATED:20221108T150132Z
LAST-MODIFIED:20221108T150132Z
UID:2319-1668607200-1668612600@alivemaryland.org
SUMMARY:NASTAD Social Determinants of Health (SDOH) Legal Series — Part 3
DESCRIPTION:NASTAD is happy to announce the third installment of the Social Determinants of Health (SDOH) Legal Series on November 16th at 2:00 PM EST. This webinar will focus on housing and legal support services. An overview will be provided on the history and impact of Housing Opportunities for Persons With AIDS(HOPWA). There will also be a discussion on housing-related legal support services such as eviction prevention\, tenant rights\, and housing search assistance.  To register for this webinar\, please follow the link: \nhttps://nastad.zoom.us/meeting/register/tZIoce-qrj0qG9x1VP7z-6VYA448AZWJwNW8 \nThe final installment of the SDOH Legal Series will be held January 2023 and will explore the impact of legal systems and policies have on youth and young adults. NASTAD will release a memo in the coming weeks with the specific date and registration link.
URL:https://alivemaryland.org/event/nastad-social-determinants-of-health-sdoh-legal-series-part-3/
LOCATION:Online Event
CATEGORIES:Webinar
END:VEVENT
END:VCALENDAR