BEGIN:VCALENDAR
VERSION:2.0
PRODID:-//Alive Maryland - ECPv6.2.9//NONSGML v1.0//EN
CALSCALE:GREGORIAN
METHOD:PUBLISH
X-ORIGINAL-URL:https://alivemaryland.org
X-WR-CALDESC:Events for Alive Maryland
REFRESH-INTERVAL;VALUE=DURATION:PT1H
X-Robots-Tag:noindex
X-PUBLISHED-TTL:PT1H
BEGIN:VTIMEZONE
TZID:America/Los_Angeles
BEGIN:DAYLIGHT
TZOFFSETFROM:-0800
TZOFFSETTO:-0700
TZNAME:PDT
DTSTART:20220313T100000
END:DAYLIGHT
BEGIN:STANDARD
TZOFFSETFROM:-0700
TZOFFSETTO:-0800
TZNAME:PST
DTSTART:20221106T090000
END:STANDARD
TZID:America/New_York
BEGIN:DAYLIGHT
TZOFFSETFROM:-0500
TZOFFSETTO:-0400
TZNAME:EDT
DTSTART:20220313T070000
END:DAYLIGHT
BEGIN:STANDARD
TZOFFSETFROM:-0400
TZOFFSETTO:-0500
TZNAME:EST
DTSTART:20221106T060000
END:STANDARD
END:VTIMEZONE
BEGIN:VEVENT
DTSTART;TZID=America/Los_Angeles:20221012T120000
DTEND;TZID=America/Los_Angeles:20221012T130000
DTSTAMP:20260421T155258
CREATED:20220922T153559Z
LAST-MODIFIED:20220922T153559Z
UID:2102-1665576000-1665579600@alivemaryland.org
SUMMARY:Health Cares About Domestic Violence (HCADV) Day Webinar
DESCRIPTION:Intimate Partner Violence\, Homelessness and Behavioral Health: A Toolkit for Health Center and Community Partners \nThis webinar will be held as part of Health Cares About Domestic Violence Day (HCADV)\, a nationally-recognized awareness day that takes place annually on the second Wednesday of October. HCADV Day aims to reach members of the healthcare and advocacy communities to offer education about the critical importance of universal education to promote healthy relationships\, to address the health impact of abuse\, and offer warm referrals to domestic violence advocates. \nIn recognition of HCADV Day\, Health Partners on IPV + Exploitation and National Health Care for the Homeless Council are excited to release a new toolkit\, Intimate Partner Violence\, Homelessness\, and Behavioral Health developed for Health Care for the Homeless Health Centers and their community-based partners. The toolkit addresses the intersections of intimate partner violence\, human trafficking\, homelessness\, behavioral health and gender. Speakers will provide an overview of the new toolkit and provide a deeper look at how organizations can authentically engage consumer leaders in the effort to end homelessness\, IPV and human trafficking. \nAs a result of this webinar\, participants will be able to: \n\nDescribe HCADV Day and opportunities for participating in the day of action.\nNavigate the new toolkit on IPV\, homelessness\, human trafficking and behavioral health.\nExplain the value of consumer leadership and identify two strategies for supporting consumer leadership and peer support.\n\nSe proporcionará interpretación en español. Para leer la información\, por favor descargue el panfleto al final del comunicado.\nPara leer la información en español\, por favor descargue el panfleto a través del siguiente elnace: https://healthpartnersipve.org/wp-content/uploads/2022/08/NHCHC-webianar-Spanish-flyer.pdf \n  \nFaculty and Presenters: \nAmy Grassette\, Chair-National Consumer Advisory Board at National Health Care for the Homeless Council \nKelli Klein\, BA\, Clinical Manager\, NHCHC \nSurabhi Kukke\, MPH\, Consultant\, Health Partners on IPV + Exploitation \nAnna Marjavi\, Director\, Health Partners on IPV + Exploitation \nCourtney Pladsen\, DNP\, FNP-BC\, RN\, Director of Clinical and Quality Improvement\, NHCHC \nFor any questions contact Camila Sanchez Tejada at csanchez@futureswithoutviolence.org. \n  \nRegistration: \nVisit https://us02web.zoom.us/webinar/register/WN_6sseqnhjT12RfW61V10vtw to register.
URL:https://alivemaryland.org/event/health-cares-about-domestic-violence-hcadv-day-webinar/
LOCATION:Online Event
CATEGORIES:Webinar
END:VEVENT
BEGIN:VEVENT
DTSTART;TZID=America/New_York:20221012T130000
DTEND;TZID=America/New_York:20221012T150000
DTSTAMP:20260421T155258
CREATED:20220922T142234Z
LAST-MODIFIED:20221017T160915Z
UID:2081-1665579600-1665586800@alivemaryland.org
SUMMARY:2023 Open Enrollment Webinar Series\, Session 1
DESCRIPTION:Please join the MADAP Insurance Team as we begin our 2023 Open Enrollment series through January 25th.  \nFor our first session on Wednesday\, October 12\, 2022 at 1:00pm\, the MADAP Insurance Team will discuss the following: \n\nMedicare Open Enrollment for 2023: Preparing for Medicare Open Enrollment\nHow to assist a client with Medicare Enrollment\nChoosing a Medicare plan (stand-alone part D/Med Advantage)\nCase scenario presentations\nPlan review for drug and cost coverage\nWhat plans MADAP can pay (Premium assistance from MADAP+)\nMedicare Supplement plans\nMedigap plans\nCase scenario presentation\nUnderstanding Extra Help\nWhat is Extra Help (LIS/SPDAP/QMB/SLMB)\nHow to get Part D assistance\nWhere to find Extra Help\, information\, and resources (SHIP\, etc.)\nHow to apply
URL:https://alivemaryland.org/event/2023-medicare-open-enrollment-webinar-series-session-1/
LOCATION:Online Event
CATEGORIES:Webinar
END:VEVENT
END:VCALENDAR