BEGIN:VCALENDAR
VERSION:2.0
PRODID:-//Alive Maryland - ECPv6.2.9//NONSGML v1.0//EN
CALSCALE:GREGORIAN
METHOD:PUBLISH
X-WR-CALNAME:Alive Maryland
X-ORIGINAL-URL:https://alivemaryland.org
X-WR-CALDESC:Events for Alive Maryland
REFRESH-INTERVAL;VALUE=DURATION:PT1H
X-Robots-Tag:noindex
X-PUBLISHED-TTL:PT1H
BEGIN:VTIMEZONE
TZID:America/New_York
BEGIN:DAYLIGHT
TZOFFSETFROM:-0500
TZOFFSETTO:-0400
TZNAME:EDT
DTSTART:20230312T070000
END:DAYLIGHT
BEGIN:STANDARD
TZOFFSETFROM:-0400
TZOFFSETTO:-0500
TZNAME:EST
DTSTART:20231105T060000
END:STANDARD
END:VTIMEZONE
BEGIN:VEVENT
DTSTART;TZID=America/New_York:20230111T130000
DTEND;TZID=America/New_York:20230111T150000
DTSTAMP:20260421T091136
CREATED:20220922T143058Z
LAST-MODIFIED:20230103T180120Z
UID:2093-1673442000-1673449200@alivemaryland.org
SUMMARY:2023 Open Enrollment Webinar Series\, Session 7
DESCRIPTION:Please join the MADAP Insurance team as we continue our 2023 Open Enrollment series through January 25th. For our 7th series on Wednesday\, January 11\, 2023 at 1pm\, the MADAP Insurance team will discuss the following: \n\nMedicaid eligibility and unwinding Open Enrollment for Medicare Advantage Plans\nClients who want to switch plans Coverage Transitions\nSpecial Enrollment for QHPs and Medicare\n\nTo register\, visit https://us06web.zoom.us/meeting/register/tZcpdO2vqDMoE93LcpMNAmBK6D-krqeKtgym
URL:https://alivemaryland.org/event/2023-medicare-open-enrollment-webinar-series-session-7/
LOCATION:Online Event
CATEGORIES:Webinar
END:VEVENT
BEGIN:VEVENT
DTSTART;TZID=America/New_York:20230112T170000
DTEND;TZID=America/New_York:20230112T180000
DTSTAMP:20260421T091136
CREATED:20221214T145753Z
LAST-MODIFIED:20221214T145753Z
UID:2371-1673542800-1673546400@alivemaryland.org
SUMMARY:Reinforcing Effective Self-Concept Versus Self-Sabotaging
DESCRIPTION:The Maryland Department of Health (MDH) Behavioral Health Administration (BHA) and MedChi jointly sponsor a webinar series\, the BHA/MedChi Behavioral Health Webinar Series: Helping the Helpers and Those They Serve. \n\nThe January 12\, 2023 webinar presentation will focus on “Effective Self-Concept Versus Self-Sabotaging\,” presented by LaTanya Egleston\, MA. \n\nThese webinars are for Maryland’s behavioral health and medical health care workers of all disciplines\, whether working in community or hospital settings. They are designed to enhance both health care worker self-care and resultantly the care they provide\, as health care workers combat numerous stressors including the COVID-19 pandemic\, social justice issues\, and other stressors that can potentially impact delivered care. \nCMEs will be available at no cost\, as will Participant Certificates\, which for other disciplines may qualify for CEUs or other continuing education credit\, although these are not approved for CEUs by the Maryland Board of Social Work Examiners. Participants should check with their certifying organizations to see how these would apply. \n\n\n\n\nRegistration for future webinars will be posted on the BHA/MedChi webinar webpage\, where webinar recordings are also archived. \n\n\n\n\n\nFor questions\, or if you are interested in delivering a presentation\, being a moderator\, or have self-care topics/presenters to suggest\, contact Steve Whitefield at steven.whitefield@maryland.gov.
URL:https://alivemaryland.org/event/reinforcing-effective-self-concept-versus-self-sabotaging/
LOCATION:Online Event
CATEGORIES:Webinar
END:VEVENT
BEGIN:VEVENT
DTSTART;TZID=America/New_York:20230125T130000
DTEND;TZID=America/New_York:20230125T150000
DTSTAMP:20260421T091136
CREATED:20220922T143150Z
LAST-MODIFIED:20230103T175937Z
UID:2096-1674651600-1674658800@alivemaryland.org
SUMMARY:2023 Open Enrollment Webinar Series\, Session 8
DESCRIPTION:Please join the MADAP Insurance team as we wrap up our 2023 Open Enrollment Q&A series. For our 8th and final series on Wednesday\, January 25\, 2023\, at 1 pm\, the MADAP Insurance team will discuss the following: \n\nFrequently Asked Questions/Resource Page/Training Resources\nMADAP Modules and ACE TA Centers\nTroubleshooting Problems with Open Enrollment\nChange in eligibility\nLoss of coverage\nSending in Bills to MADAP\n\nTo register for this webinar\, visit https://us06web.zoom.us/meeting/register/tZcpdO2vqDMoE93LcpMNAmBK6D-krqeKtgym
URL:https://alivemaryland.org/event/2023-medicare-open-enrollment-webinar-series-session-8/
LOCATION:Online Event
CATEGORIES:Webinar
END:VEVENT
END:VCALENDAR