BEGIN:VCALENDAR
VERSION:2.0
PRODID:-//Alive Maryland - ECPv6.2.9//NONSGML v1.0//EN
CALSCALE:GREGORIAN
METHOD:PUBLISH
X-ORIGINAL-URL:https://alivemaryland.org
X-WR-CALDESC:Events for Alive Maryland
REFRESH-INTERVAL;VALUE=DURATION:PT1H
X-Robots-Tag:noindex
X-PUBLISHED-TTL:PT1H
BEGIN:VTIMEZONE
TZID:America/New_York
BEGIN:DAYLIGHT
TZOFFSETFROM:-0500
TZOFFSETTO:-0400
TZNAME:EDT
DTSTART:20230312T070000
END:DAYLIGHT
BEGIN:STANDARD
TZOFFSETFROM:-0400
TZOFFSETTO:-0500
TZNAME:EST
DTSTART:20231105T060000
END:STANDARD
END:VTIMEZONE
BEGIN:VEVENT
DTSTART;TZID=America/New_York:20231103T090000
DTEND;TZID=America/New_York:20231103T163000
DTSTAMP:20260421T065915
CREATED:20231013T174827Z
LAST-MODIFIED:20231013T174827Z
UID:2937-1699002000-1699029000@alivemaryland.org
SUMMARY:2023 IDPHSB Center for HIV Prevention and Health Services Statewide Meeting
DESCRIPTION:MARK YOUR CALENDAR and REGISTER NOW for the 2023 IDPHSB Center for HIV Prevention and Health Services Integrated Statewide Meeting. This year\, the statewide meeting theme is “Mobilizing Our Efforts for Outcomes-Based Success.” \nThe meeting will take place virtually on Friday\, November 3\, 2023 from 9:00am to 4:30pm Eastern. \nIntended Audience: Program managers\, medical providers\, case managers\, HIV testing and outreach workers\, and other staff from Maryland IDPHSB Center for HIV Prevention and Health Services prevention and Ryan White funded sub-recipients. \nLearn more at https://alivemaryland.org/chphs2023/
URL:https://alivemaryland.org/event/2023-idphsb-center-for-hiv-prevention-and-health-services-statewide-meeting/
LOCATION:Online Event
CATEGORIES:Meeting
ATTACH;FMTTYPE=image/jpeg:https://alivemaryland.org/wp-content/uploads/2023/10/2023_CHPMeeting_cropped.jpg
END:VEVENT
END:VCALENDAR