BEGIN:VCALENDAR
VERSION:2.0
PRODID:-//Alive Maryland - ECPv6.2.9//NONSGML v1.0//EN
CALSCALE:GREGORIAN
METHOD:PUBLISH
X-WR-CALNAME:Alive Maryland
X-ORIGINAL-URL:https://alivemaryland.org
X-WR-CALDESC:Events for Alive Maryland
REFRESH-INTERVAL;VALUE=DURATION:PT1H
X-Robots-Tag:noindex
X-PUBLISHED-TTL:PT1H
BEGIN:VTIMEZONE
TZID:America/New_York
BEGIN:DAYLIGHT
TZOFFSETFROM:-0500
TZOFFSETTO:-0400
TZNAME:EDT
DTSTART:20230312T070000
END:DAYLIGHT
BEGIN:STANDARD
TZOFFSETFROM:-0400
TZOFFSETTO:-0500
TZNAME:EST
DTSTART:20231105T060000
END:STANDARD
END:VTIMEZONE
BEGIN:VEVENT
DTSTART;TZID=America/New_York:20230308T140000
DTEND;TZID=America/New_York:20230308T150000
DTSTAMP:20260421T185013
CREATED:20230224T135904Z
LAST-MODIFIED:20230224T135904Z
UID:2466-1678284000-1678287600@alivemaryland.org
SUMMARY:MADAP Mid-Year Eligibility Verification Information Session
DESCRIPTION:Join the Client Services Eligibility team for a brief information session to discuss our updated mid-year verification process for clients. In this information session\, the eligibility team will discuss: \n– The new process for verifying client eligibility at 6 months of their annual eligibility period\n– What determines the need for case management or client action during the mid-year verification\n– Who to contact if you have any questions \nRegister here: https://us06web.zoom.us/meeting/register/tZItf-CpqzwsGdbPHBlyqUI8k9WtfXt6WAC7
URL:https://alivemaryland.org/event/madap-mid-year-eligibility-verification-information-session/
LOCATION:Online Event
CATEGORIES:Meeting
END:VEVENT
END:VCALENDAR